BEGIN:VCALENDAR
VERSION:2.0
PRODID:-//Irish Society of the National Capital Region - ECPv6.15.20//NONSGML v1.0//EN
CALSCALE:GREGORIAN
METHOD:PUBLISH
X-WR-CALNAME:Irish Society of the National Capital Region
X-ORIGINAL-URL:https://www.irishsocietyncr.com
X-WR-CALDESC:Events for Irish Society of the National Capital Region
REFRESH-INTERVAL;VALUE=DURATION:PT1H
X-Robots-Tag:noindex
X-PUBLISHED-TTL:PT1H
BEGIN:VTIMEZONE
TZID:America/New_York
BEGIN:DAYLIGHT
TZOFFSETFROM:-0500
TZOFFSETTO:-0400
TZNAME:EDT
DTSTART:20250309T070000
END:DAYLIGHT
BEGIN:STANDARD
TZOFFSETFROM:-0400
TZOFFSETTO:-0500
TZNAME:EST
DTSTART:20251102T060000
END:STANDARD
BEGIN:DAYLIGHT
TZOFFSETFROM:-0500
TZOFFSETTO:-0400
TZNAME:EDT
DTSTART:20260308T070000
END:DAYLIGHT
BEGIN:STANDARD
TZOFFSETFROM:-0400
TZOFFSETTO:-0500
TZNAME:EST
DTSTART:20261101T060000
END:STANDARD
BEGIN:DAYLIGHT
TZOFFSETFROM:-0500
TZOFFSETTO:-0400
TZNAME:EDT
DTSTART:20270314T070000
END:DAYLIGHT
BEGIN:STANDARD
TZOFFSETFROM:-0400
TZOFFSETTO:-0500
TZNAME:EST
DTSTART:20271107T060000
END:STANDARD
END:VTIMEZONE
BEGIN:VEVENT
DTSTART;TZID=America/New_York:20260222T110000
DTEND;TZID=America/New_York:20260222T130000
DTSTAMP:20260421T042710
CREATED:20260201T162907Z
LAST-MODIFIED:20260205T221729Z
UID:826-1771758000-1771765200@www.irishsocietyncr.com
SUMMARY:Irish Breakfast - February 22 - 11:00AM
DESCRIPTION:February 22\, 2026\n11:00 AM\nHosted by Heart & Crown Barhaven\, join us for a traditional Irish Breakfast benefiting the Irish Society of the National Capital Region. \nTickets are $30 for adults and $20 for children under 12. \nNo walk-ins allowed. Tickets must be purchased by February 19th.
URL:https://www.irishsocietyncr.com/event/irish-breakfast-february-22-12noon/
LOCATION:Heart and Crown\, 3161 Strandherd Dr #300\, Nepean\, ON K2J 5N1\, Nepean\, Ontario\, K2J 5N1\, Canada
ATTACH;FMTTYPE=image/png:https://www.irishsocietyncr.com/wp-content/uploads/2026/02/Untitled-design-7.png
END:VEVENT
BEGIN:VEVENT
DTSTART;TZID=America/New_York:20260307T120000
DTEND;TZID=America/New_York:20260307T170000
DTSTAMP:20260421T042710
CREATED:20251204T175604Z
LAST-MODIFIED:20251204T175604Z
UID:207-1772884800-1772902800@www.irishsocietyncr.com
SUMMARY:2026 St. Patrick's Day Parade
DESCRIPTION:DATE/TIME: \nSaturday\, March 7th\, 2026\, Starting @ 12:00 PM and finishing by approximately 1:30 PM \nPARADE ROUTE: \nThe Parade will leave the Supreme Court of Canada 301 Wellington Street 12:00 pm and proceed eastward on Wellington Street passing in front of the Parliament Building over the Rideau Canal to Sussex Drive. Then turning Northward on Sussex Drive to York Street before turning Eastward once again into the heart of the Byward Market. \nFORMATION: \nParade entries will form-up on the west lane entrance of the Supreme Court Building 8:00 AM to 11:45 AM. Each entry will be advised of their position in the Parade no later than March 4th\,2026. \nPARKING: \nFree parking is available at St. Patrick’s Basilica on Gloucester Street entrance and at the Supreme Court of Canada.
URL:https://www.irishsocietyncr.com/event/2026-st-patricks-day-parade/
LOCATION:Ontario
END:VEVENT
BEGIN:VEVENT
DTSTART;TZID=America/New_York:20260803T140000
DTEND;TZID=America/New_York:20260803T160000
DTSTAMP:20260421T042710
CREATED:20251205T143615Z
LAST-MODIFIED:20251205T143713Z
UID:364-1785765600-1785772800@www.irishsocietyncr.com
SUMMARY:Celtic Cross Ceremonies
DESCRIPTION:
URL:https://www.irishsocietyncr.com/event/celtic-cross-ceremonies/
LOCATION:Rideau Canal – Lock 1\, Rideau Canal\, Ottawa\, ON
END:VEVENT
END:VCALENDAR